BEGIN:VCALENDAR
VERSION:2.0
PRODID:-//wp-events-plugin.com//7.2.3.1//EN
TZID:Europe/Paris
X-WR-TIMEZONE:Europe/Paris
BEGIN:VEVENT
UID:29@shetlandfrance.com
DTSTART;TZID=Europe/Paris:20260704T000000
DTEND;TZID=Europe/Paris:20260705T000000
DTSTAMP:20260417T053830Z
URL:https://www.shetlandfrance.com/events/concours-regional-chazay-sur-ain
 /
SUMMARY:Concours Régional - CHAZAY SUR AIN - 2026
DESCRIPTION:L\nLe concours régional poneys shetland est ouvert à tous Vou
 s pouvez venir en simple spectateur\, faire connaissance avec ce poney au 
 grand cœur et ses passionnésou bien concourir sur les épreuves avec vot
 re poney shetland (seule condition : votre poney doit être enregistré au
  stud book du poney shetland français)\nLes modalités d’inscription se
 ront diffusées prochainement sur nos réseaux\, abonnez-vous pour ne rien
  louper \nCe week end sera composé :- d’épreuves sportives ( longues 
 rennes et TACS) le samedi- d’épreuves modèle &amp\; allures le dimanch
 e\n\n\nFaites parti de l’aventure et retrouvons-nous tous autour de cett
 e même passion pour ce fabuleux poney!\n\nPlus de détails\n\n
CATEGORIES:M&amp;A,PERF
LOCATION:Parc du Cheval - Chazay sur Ain\, Le Luizard\, Chazay Sur Ain\, 10
 95\, 
X-APPLE-STRUCTURED-LOCATION;VALUE=URI;X-ADDRESS=Le Luizard\, Chazay Sur Ain
 \, 1095\, ;X-APPLE-RADIUS=100;X-TITLE=Parc du Cheval - Chazay sur Ain:geo:
 0,0
END:VEVENT
BEGIN:VTIMEZONE
TZID:Europe/Paris
X-LIC-LOCATION:Europe/Paris
BEGIN:DAYLIGHT
DTSTART:20260329T030000
TZOFFSETFROM:+0100
TZOFFSETTO:+0200
TZNAME:CEST
END:DAYLIGHT
END:VTIMEZONE
END:VCALENDAR